BEGIN:VCALENDAR
VERSION:2.0
PRODID:-//eventon.com NONSGML v1.0//EN
CALSCALE:GREGORIAN
METHOD:PUBLISH
BEGIN:VEVENT
UID:69e75004e5b3f
DTSTAMP:20260421T102300Z
DTSTART:20260115T170000Z
DTEND:20260115T210000Z
LOCATION:
SUMMARY:Assemblée Citoyenne
DESCRIPTION:Présentation du programme et choix des premiers co-listiers\nh
 ttps://toulonencommun.com/events/assemblee-citoyenne/
URL:https://toulonencommun.com/events/assemblee-citoyenne/
END:VEVENT
END:VCALENDAR